BEGIN:VCALENDAR
VERSION:2.0
PRODID:-//Smith Creek Resort | Luxury Cabins - ECPv6.15.20//NONSGML v1.0//EN
CALSCALE:GREGORIAN
METHOD:PUBLISH
X-WR-CALNAME:Smith Creek Resort | Luxury Cabins
X-ORIGINAL-URL:https://smithcreekresort.com
X-WR-CALDESC:Events for Smith Creek Resort | Luxury Cabins
REFRESH-INTERVAL;VALUE=DURATION:PT1H
X-Robots-Tag:noindex
X-PUBLISHED-TTL:PT1H
BEGIN:VTIMEZONE
TZID:UTC
BEGIN:STANDARD
TZOFFSETFROM:+0000
TZOFFSETTO:+0000
TZNAME:UTC
DTSTART:20250101T000000
END:STANDARD
END:VTIMEZONE
BEGIN:VEVENT
DTSTART;TZID=UTC:20260418T100000
DTEND;TZID=UTC:20260608T200000
DTSTAMP:20260422T143355
CREATED:20251118T204441Z
LAST-MODIFIED:20251118T205040Z
UID:14602-1776506400-1780948800@smithcreekresort.com
SUMMARY:Flower & Food Festival at Dollywood
DESCRIPTION:Flower & Food Festival at Dollywood	            \n	                A Spring Celebration of Blooms & Flavor	            	            \n	                Spring arrives in full bloom at Dollywood’s Flower & Food Festival! Explore larger-than-life floral creations\, seasonal dishes\, and vibrant displays throughout the park. From master gardeners to foodies\, this festival delights the senses with fresh flavors and stunning horticultural art. Visitors can stroll under the iconic Umbrella Sky\, enjoy live music\, and taste delicious Smoky Mountain-inspired dishes. It’s the perfect spring outing for families and couples looking to celebrate the season. Who It’s For: Garden lovers\, families\, foodies\, theme park fans.What to Expect: Floral sculptures\, seasonal food\, live entertainment\, and festive spring décor.Do’s: Try the tasting pass for more value!Don’ts: Don’t forget sunscreen—spring days can be sunny. 	                    				\n				\n					\n		\n				\n			\n						\n						\n					\n			\n						\n				\n					\n        	            \n	                Information	                    				\n				\n				\n				\n					\n                                                    \n                                                                        Location: Dollywood                                                        \n                                                                        Website: dollywood.com                                                                                \n                                                                        Distance from Smith Creek Resort: 5.8 miles / ~13 min                            				\n				\n				\n				\n					\n        	            \n	                Date and Timings	                    				\n				\n				\n				\n					\n                                                    \n                                                                        Start Date: April 18\, 2026\nEnd Date: June 8\, 2026\nHours: 10:00 am – 8:00 pm                            				\n				\n				\n				\n					\n        	            \n	                What to Know	                    				\n				\n				\n				\n					\n                                                    \n                                                                        Type of Experience: Spring festival blending food\, flowers\, and immersive artistic displays.                                                        \n                                                                        Fun Fact: The festival features over half a million blooming flowers each year!                            				\n				\n					\n		\n					\n		\n					\n		\n					\n		\n				\n						\n					\n			\n						\n				\n					\n            \n                                                                                                                                                                                                                                                                                                                                                                                    \n            				\n				\n					\n		\n					\n		\n		\n					\n				\n				\n					\n	\n		\n\n	\n	Add to calendar	\n		\n	\n\n		\n			\n									\n	Google Calendar\n\n									\n	iCalendar\n\n									\n	Outlook 365\n\n									\n	Outlook Live
URL:https://smithcreekresort.com/event/flower-food-festival-at-dollywood/
ATTACH;FMTTYPE=image/webp:https://smithcreekresort.com/wp-content/uploads/2025/11/Hero-Image-32.webp
END:VEVENT
END:VCALENDAR